|SUCCESS| pw138001 [PATCH] net/mlx5: fix async flow create error han

dpdklab at iol.unh.edu dpdklab at iol.unh.edu
Wed Mar 6 10:06:46 CET 2024


Test-Label: iol-unit-arm64-testing
Test-Status: SUCCESS
http://dpdk.org/patch/138001

_Testing PASS_

Submitter: Dariusz Sosnowski <dsosnowski at nvidia.com>
Date: Tuesday, March 05 2024 18:05:14 
DPDK git baseline: Repo:dpdk
  Branch: master
  CommitID:3472e5d3295d44b4835ffb22c39f2b7d40780f10

138001 --> testing pass

Test environment and result as below:

+--------------------------+--------------+----------------+
|       Environment        | lpm_autotest | dpdk_unit_test |
+==========================+==============+================+
| Ubuntu 20.04 ARM SVE     | PASS         | SKIPPED        |
+--------------------------+--------------+----------------+
| CentOS Stream 9 (ARM)    | SKIPPED      | PASS           |
+--------------------------+--------------+----------------+
| Debian 11 (Buster) (ARM) | SKIPPED      | PASS           |
+--------------------------+--------------+----------------+
| Debian 12 (arm)          | SKIPPED      | PASS           |
+--------------------------+--------------+----------------+


Ubuntu 20.04 ARM SVE
	Kernel: 5.4.0-80-generic
	Compiler: gcc 10.3.0 (Ubuntu 10.3.0-1ubuntu1~20.04)

CentOS Stream 9 (ARM)
	Kernel: Container Host Kernel
	Compiler: gcc 11.3.1

Debian 11 (Buster) (ARM)
	Kernel: Container Host Kernel
	Compiler: gcc 10.2.1

Debian 12 (arm)
	Kernel: Container Host Kernel
	Compiler: gcc 11

To view detailed results, visit:
https://lab.dpdk.org/results/dashboard/patchsets/29425/

UNH-IOL DPDK Community Lab

To manage your email subscriptions, visit: 
https://lab.dpdk.org/results/dashboard/preferences/subscriptions/


More information about the test-report mailing list