|SUCCESS| [GIT MASTER] bd4ce75c651612bd9dc395315d10b1a39ba78248
dpdklab at iol.unh.edu
dpdklab at iol.unh.edu
Wed Mar 6 11:34:40 CET 2024
_Testing PASS_
Branch: dpdk-next-net
bd4ce75c651612bd9dc395315d10b1a39ba78248 --> testing pass
Test environment and result as below:
+--------------------------+--------------+----------------+------------------------------+---------------------------+
| Environment | lpm_autotest | dpdk_unit_test | cryptodev_sw_snow3g_autotest | cryptodev_sw_zuc_autotest |
+==========================+==============+================+==============================+===========================+
| Ubuntu 20.04 ARM SVE | PASS | SKIPPED | SKIPPED | SKIPPED |
+--------------------------+--------------+----------------+------------------------------+---------------------------+
| Debian 12 (arm) | SKIPPED | PASS | PASS | PASS |
+--------------------------+--------------+----------------+------------------------------+---------------------------+
| CentOS Stream 9 (ARM) | SKIPPED | PASS | SKIPPED | SKIPPED |
+--------------------------+--------------+----------------+------------------------------+---------------------------+
| Debian 11 (Buster) (ARM) | SKIPPED | PASS | SKIPPED | SKIPPED |
+--------------------------+--------------+----------------+------------------------------+---------------------------+
| Fedora 38 (ARM) | SKIPPED | PASS | SKIPPED | SKIPPED |
+--------------------------+--------------+----------------+------------------------------+---------------------------+
| Fedora 37 (ARM) | SKIPPED | PASS | SKIPPED | SKIPPED |
+--------------------------+--------------+----------------+------------------------------+---------------------------+
| Ubuntu 20.04 (ARM) | SKIPPED | PASS | SKIPPED | SKIPPED |
+--------------------------+--------------+----------------+------------------------------+---------------------------+
| Fedora 38 (ARM Clang) | SKIPPED | PASS | SKIPPED | SKIPPED |
+--------------------------+--------------+----------------+------------------------------+---------------------------+
Ubuntu 20.04 ARM SVE
Kernel: 5.4.0-80-generic
Compiler: gcc 10.3.0 (Ubuntu 10.3.0-1ubuntu1~20.04)
Debian 12 (arm)
Kernel: Container Host Kernel
Compiler: gcc 11
CentOS Stream 9 (ARM)
Kernel: Container Host Kernel
Compiler: gcc 11.3.1
Debian 11 (Buster) (ARM)
Kernel: Container Host Kernel
Compiler: gcc 10.2.1
Fedora 38 (ARM)
Kernel: Depends on container host
Compiler: gcc 13.1.1
Fedora 37 (ARM)
Kernel: Depends on container host
Compiler: gcc 12.3.1
Ubuntu 20.04 (ARM)
Kernel: Container Host Kernel
Compiler: gcc 9.4.0
Fedora 38 (ARM Clang)
Kernel: Depends on container host
Compiler: clang 16.0.3
To view detailed results, visit:
https://lab.dpdk.org/results/dashboard/tarballs/28335/
UNH-IOL DPDK Community Lab
To manage your email subscriptions, visit:
https://lab.dpdk.org/results/dashboard/preferences/subscriptions/
More information about the test-report
mailing list