|SUCCESS| pw138012 [PATCH] [v3] lib/hash: add defer queue reclaim AP

dpdklab at iol.unh.edu dpdklab at iol.unh.edu
Wed Mar 6 15:11:02 CET 2024


Test-Label: iol-unit-arm64-testing
Test-Status: SUCCESS
http://dpdk.org/patch/138012

_Testing PASS_

Submitter: Abdullah Omer Yamac <aomeryamac at gmail.com>
Date: Wednesday, March 06 2024 10:13:35 
DPDK git baseline: Repo:dpdk
  Branch: master
  CommitID:204425f9c7d8a70202b3fa68a9b44acc2321dd50

138012 --> testing pass

Test environment and result as below:

+-----------------------+--------------+------------------------------+----------------+
|      Environment      | lpm_autotest | cryptodev_sw_snow3g_autotest | dpdk_unit_test |
+=======================+==============+==============================+================+
| Ubuntu 20.04 ARM SVE  | PASS         | SKIPPED                      | SKIPPED        |
+-----------------------+--------------+------------------------------+----------------+
| Debian 12 (arm)       | SKIPPED      | PASS                         | SKIPPED        |
+-----------------------+--------------+------------------------------+----------------+
| CentOS Stream 9 (ARM) | SKIPPED      | SKIPPED                      | PASS           |
+-----------------------+--------------+------------------------------+----------------+


Ubuntu 20.04 ARM SVE
	Kernel: 5.4.0-80-generic
	Compiler: gcc 10.3.0 (Ubuntu 10.3.0-1ubuntu1~20.04)

Debian 12 (arm)
	Kernel: Container Host Kernel
	Compiler: gcc 11

CentOS Stream 9 (ARM)
	Kernel: Container Host Kernel
	Compiler: gcc 11.3.1

To view detailed results, visit:
https://lab.dpdk.org/results/dashboard/patchsets/29434/

UNH-IOL DPDK Community Lab

To manage your email subscriptions, visit: 
https://lab.dpdk.org/results/dashboard/preferences/subscriptions/


More information about the test-report mailing list