|SUCCESS| pw138049 [PATCH] app/dma-perf: calrify incorrect NUMA conf

dpdklab at iol.unh.edu dpdklab at iol.unh.edu
Wed Mar 6 19:27:14 CET 2024


Test-Label: iol-abi-testing
Test-Status: SUCCESS
http://dpdk.org/patch/138049

_Testing PASS_

Submitter: Vipin Varghese <vipin.varghese at amd.com>
Date: Wednesday, March 06 2024 15:02:04 
DPDK git baseline: Repo:dpdk
  Branch: master
  CommitID:6a9f3f6df9ef51e30ff5bf3eea00f27ffef87a16

138049 --> testing pass

Test environment and result as below:

+-----------------+----------+
|   Environment   | abi_test |
+=================+==========+
| Debian 12 (arm) | PASS     |
+-----------------+----------+
| CentOS Stream 9 | PASS     |
+-----------------+----------+
| Debian Bullseye | PASS     |
+-----------------+----------+


Debian 12 (arm)
	Kernel: Container Host Kernel
	Compiler: gcc 11

CentOS Stream 9
	Kernel: 4.18.0-240.10.1.el8_3.x86_64
	Compiler: gcc 11.3.1 20220421

Debian Bullseye
	Kernel: 5.4.0-122-generic
	Compiler: gcc 10.2.1-6

To view detailed results, visit:
https://lab.dpdk.org/results/dashboard/patchsets/29439/

UNH-IOL DPDK Community Lab

To manage your email subscriptions, visit: 
https://lab.dpdk.org/results/dashboard/preferences/subscriptions/


More information about the test-report mailing list