|SUCCESS| pw138048 [PATCH] [V2] doc/ipsec_mb: update Arm IPsec-MB li
dpdklab at iol.unh.edu
dpdklab at iol.unh.edu
Wed Mar 6 20:03:52 CET 2024
Test-Label: iol-compile-amd64-testing
Test-Status: SUCCESS
http://dpdk.org/patch/138048
_Testing PASS_
Submitter: Wathsala Wathawana Vithanage <wathsala.vithanage at arm.com>
Date: Wednesday, March 06 2024 14:49:33
DPDK git baseline: Repo:dpdk
Branch: master
CommitID:240fcef51bceb527c624a2329ca1e3030fbd64db
138048 --> testing pass
Test environment and result as below:
+---------------------+--------------------+----------------------+
| Environment | dpdk_meson_compile | dpdk_mingw64_compile |
+=====================+====================+======================+
| Windows Server 2022 | PASS | SKIPPED |
+---------------------+--------------------+----------------------+
| FreeBSD 13.2 | PASS | SKIPPED |
+---------------------+--------------------+----------------------+
| Windows Server 2019 | SKIPPED | PASS |
+---------------------+--------------------+----------------------+
Windows Server 2022
Kernel: OS Build 20348.2031
Compiler: MSVC VS-Preview
FreeBSD 13.2
Kernel: 13.2
Compiler: clang 11.3.0
Windows Server 2019
Kernel: 10.0
Compiler: clang 14.0 and gcc 8.1.0 (MinGW)
To view detailed results, visit:
https://lab.dpdk.org/results/dashboard/patchsets/29438/
UNH-IOL DPDK Community Lab
To manage your email subscriptions, visit:
https://lab.dpdk.org/results/dashboard/preferences/subscriptions/
More information about the test-report
mailing list