|SUCCESS| pw138048 [PATCH] [V2] doc/ipsec_mb: update Arm IPsec-MB li
dpdklab at iol.unh.edu
dpdklab at iol.unh.edu
Wed Mar 6 22:17:22 CET 2024
Test-Label: iol-unit-arm64-testing
Test-Status: SUCCESS
http://dpdk.org/patch/138048
_Testing PASS_
Submitter: Wathsala Wathawana Vithanage <wathsala.vithanage at arm.com>
Date: Wednesday, March 06 2024 14:49:33
DPDK git baseline: Repo:dpdk
Branch: master
CommitID:240fcef51bceb527c624a2329ca1e3030fbd64db
138048 --> testing pass
Test environment and result as below:
+--------------------------+--------------+----------------+
| Environment | lpm_autotest | dpdk_unit_test |
+==========================+==============+================+
| Ubuntu 20.04 ARM SVE | PASS | SKIPPED |
+--------------------------+--------------+----------------+
| CentOS Stream 9 (ARM) | SKIPPED | PASS |
+--------------------------+--------------+----------------+
| Debian 11 (Buster) (ARM) | SKIPPED | PASS |
+--------------------------+--------------+----------------+
| Debian 12 (arm) | SKIPPED | PASS |
+--------------------------+--------------+----------------+
| Fedora 38 (ARM) | SKIPPED | PASS |
+--------------------------+--------------+----------------+
| Fedora 37 (ARM) | SKIPPED | PASS |
+--------------------------+--------------+----------------+
| Ubuntu 20.04 (ARM) | SKIPPED | PASS |
+--------------------------+--------------+----------------+
Ubuntu 20.04 ARM SVE
Kernel: 5.4.0-80-generic
Compiler: gcc 10.3.0 (Ubuntu 10.3.0-1ubuntu1~20.04)
CentOS Stream 9 (ARM)
Kernel: Container Host Kernel
Compiler: gcc 11.3.1
Debian 11 (Buster) (ARM)
Kernel: Container Host Kernel
Compiler: gcc 10.2.1
Debian 12 (arm)
Kernel: Container Host Kernel
Compiler: gcc 11
Fedora 38 (ARM)
Kernel: Depends on container host
Compiler: gcc 13.1.1
Fedora 37 (ARM)
Kernel: Depends on container host
Compiler: gcc 12.3.1
Ubuntu 20.04 (ARM)
Kernel: Container Host Kernel
Compiler: gcc 9.4.0
To view detailed results, visit:
https://lab.dpdk.org/results/dashboard/patchsets/29438/
UNH-IOL DPDK Community Lab
To manage your email subscriptions, visit:
https://lab.dpdk.org/results/dashboard/preferences/subscriptions/
More information about the test-report
mailing list