|SUCCESS| pw138061-138063 [PATCH] [4/4] net/mlx5: fix flow configure

dpdklab at iol.unh.edu dpdklab at iol.unh.edu
Wed Mar 6 23:41:34 CET 2024


Test-Label: iol-unit-arm64-testing
Test-Status: SUCCESS
http://dpdk.org/patch/138063

_Testing PASS_

Submitter: Dariusz Sosnowski <dsosnowski at nvidia.com>
Date: Wednesday, March 06 2024 20:21:50 
DPDK git baseline: Repo:dpdk
  Branch: master
  CommitID:3472e5d3295d44b4835ffb22c39f2b7d40780f10

138061-138063 --> testing pass

Test environment and result as below:

+-----------------------+---------------------------+------------------------------+--------------+----------------+
|      Environment      | cryptodev_sw_zuc_autotest | cryptodev_sw_snow3g_autotest | lpm_autotest | dpdk_unit_test |
+=======================+===========================+==============================+==============+================+
| Debian 12 (arm)       | PASS                      | PASS                         | SKIPPED      | SKIPPED        |
+-----------------------+---------------------------+------------------------------+--------------+----------------+
| Ubuntu 20.04 ARM SVE  | SKIPPED                   | SKIPPED                      | PASS         | SKIPPED        |
+-----------------------+---------------------------+------------------------------+--------------+----------------+
| CentOS Stream 9 (ARM) | SKIPPED                   | SKIPPED                      | SKIPPED      | PASS           |
+-----------------------+---------------------------+------------------------------+--------------+----------------+


Debian 12 (arm)
	Kernel: Container Host Kernel
	Compiler: gcc 11

Ubuntu 20.04 ARM SVE
	Kernel: 5.4.0-80-generic
	Compiler: gcc 10.3.0 (Ubuntu 10.3.0-1ubuntu1~20.04)

CentOS Stream 9 (ARM)
	Kernel: Container Host Kernel
	Compiler: gcc 11.3.1

To view detailed results, visit:
https://lab.dpdk.org/results/dashboard/patchsets/29444/

UNH-IOL DPDK Community Lab

To manage your email subscriptions, visit: 
https://lab.dpdk.org/results/dashboard/preferences/subscriptions/


More information about the test-report mailing list