|SUCCESS| pw138071 [PATCH] [v1,1/1] lib: allow libraries with no sou

dpdklab at iol.unh.edu dpdklab at iol.unh.edu
Thu Mar 7 04:17:00 CET 2024


Test-Label: iol-unit-arm64-testing
Test-Status: SUCCESS
http://dpdk.org/patch/138071

_Testing PASS_

Submitter: Paul Szczepanek <paul.szczepanek at arm.com>
Date: Wednesday, March 06 2024 22:17:09 
DPDK git baseline: Repo:dpdk
  Branch: master
  CommitID:2a454f84f715608ee709a4c6ba00edf2e4b62b69

138071 --> testing pass

Test environment and result as below:

+--------------------------+---------------------------+----------------+------------------------------+
|       Environment        | cryptodev_sw_zuc_autotest | dpdk_unit_test | cryptodev_sw_snow3g_autotest |
+==========================+===========================+================+==============================+
| Debian 12 (arm)          | PASS                      | PASS           | PASS                         |
+--------------------------+---------------------------+----------------+------------------------------+
| Debian 11 (Buster) (ARM) | SKIPPED                   | PASS           | SKIPPED                      |
+--------------------------+---------------------------+----------------+------------------------------+
| Fedora 38 (ARM)          | SKIPPED                   | PASS           | SKIPPED                      |
+--------------------------+---------------------------+----------------+------------------------------+


Debian 12 (arm)
	Kernel: Container Host Kernel
	Compiler: gcc 11

Debian 11 (Buster) (ARM)
	Kernel: Container Host Kernel
	Compiler: gcc 10.2.1

Fedora 38 (ARM)
	Kernel: Depends on container host
	Compiler: gcc 13.1.1

To view detailed results, visit:
https://lab.dpdk.org/results/dashboard/patchsets/29447/

UNH-IOL DPDK Community Lab

To manage your email subscriptions, visit: 
https://lab.dpdk.org/results/dashboard/preferences/subscriptions/


More information about the test-report mailing list