|SUCCESS| pw138074-138078 [PATCH] [v5,7/7] net/hns3: support filter

dpdklab at iol.unh.edu dpdklab at iol.unh.edu
Thu Mar 7 05:01:18 CET 2024


Test-Label: iol-compile-amd64-testing
Test-Status: SUCCESS
http://dpdk.org/patch/138078

_Testing PASS_

Submitter: Jie Hai <haijie1 at huawei.com>
Date: Thursday, March 07 2024 03:02:47 
DPDK git baseline: Repo:dpdk
  Branch: master
  CommitID:7fcf4e8a03c4b0d2c6cec11ddd18c7bf88ba0384

138074-138078 --> testing pass

Test environment and result as below:

+---------------------+--------------------+
|     Environment     | dpdk_meson_compile |
+=====================+====================+
| Windows Server 2022 | PASS               |
+---------------------+--------------------+
| FreeBSD 13.2        | PASS               |
+---------------------+--------------------+
| Windows Server 2019 | PASS               |
+---------------------+--------------------+


Windows Server 2022
	Kernel: OS Build 20348.2031
	Compiler: MSVC VS-Preview

FreeBSD 13.2
	Kernel: 13.2
	Compiler: clang 11.3.0

Windows Server 2019
	Kernel: 10.0
	Compiler: clang 14.0 and gcc 8.1.0 (MinGW)

To view detailed results, visit:
https://lab.dpdk.org/results/dashboard/patchsets/29449/

UNH-IOL DPDK Community Lab

To manage your email subscriptions, visit: 
https://lab.dpdk.org/results/dashboard/preferences/subscriptions/


More information about the test-report mailing list