|SUCCESS| pw138066-138070 [PATCH] [v3,5/5] net/cxgbe: use rte macro

dpdklab at iol.unh.edu dpdklab at iol.unh.edu
Thu Mar 7 05:14:15 CET 2024


Test-Label: iol-unit-arm64-testing
Test-Status: SUCCESS
http://dpdk.org/patch/138070

_Testing PASS_

Submitter: Tyler Retzlaff <roretzla at linux.microsoft.com>
Date: Wednesday, March 06 2024 22:14:47 
DPDK git baseline: Repo:dpdk
  Branch: master
  CommitID:2a454f84f715608ee709a4c6ba00edf2e4b62b69

138066-138070 --> testing pass

Test environment and result as below:

+-----------------------+----------------+--------------+
|      Environment      | dpdk_unit_test | lpm_autotest |
+=======================+================+==============+
| Fedora 37 (ARM)       | PASS           | SKIPPED      |
+-----------------------+----------------+--------------+
| CentOS Stream 9 (ARM) | PASS           | SKIPPED      |
+-----------------------+----------------+--------------+
| Ubuntu 20.04 ARM SVE  | SKIPPED        | PASS         |
+-----------------------+----------------+--------------+


Fedora 37 (ARM)
	Kernel: Depends on container host
	Compiler: gcc 12.3.1

CentOS Stream 9 (ARM)
	Kernel: Container Host Kernel
	Compiler: gcc 11.3.1

Ubuntu 20.04 ARM SVE
	Kernel: 5.4.0-80-generic
	Compiler: gcc 10.3.0 (Ubuntu 10.3.0-1ubuntu1~20.04)

To view detailed results, visit:
https://lab.dpdk.org/results/dashboard/patchsets/29446/

UNH-IOL DPDK Community Lab

To manage your email subscriptions, visit: 
https://lab.dpdk.org/results/dashboard/preferences/subscriptions/


More information about the test-report mailing list