|SUCCESS| [GIT MASTER] b0b971bf661967fdf3d06e56b5437a779c2915ae
dpdklab at iol.unh.edu
dpdklab at iol.unh.edu
Thu Mar 7 08:16:15 CET 2024
_Testing PASS_
Branch: tags/v23.11
b0b971bf661967fdf3d06e56b5437a779c2915ae --> testing pass
Test environment and result as below:
+-----------------------+----------------+
| Environment | dpdk_unit_test |
+=======================+================+
| Debian 12 (arm) | PASS |
+-----------------------+----------------+
| CentOS Stream 9 (ARM) | PASS |
+-----------------------+----------------+
| Fedora 38 (ARM Clang) | PASS |
+-----------------------+----------------+
Debian 12 (arm)
Kernel: Container Host Kernel
Compiler: gcc 11
CentOS Stream 9 (ARM)
Kernel: Container Host Kernel
Compiler: gcc 11.3.1
Fedora 38 (ARM Clang)
Kernel: Depends on container host
Compiler: clang 16.0.3
To view detailed results, visit:
https://lab.dpdk.org/results/dashboard/tarballs/28360/
UNH-IOL DPDK Community Lab
To manage your email subscriptions, visit:
https://lab.dpdk.org/results/dashboard/preferences/subscriptions/
More information about the test-report
mailing list