|SUCCESS| pw138082-138085 [PATCH] [v2,5/5] eal: fix memzone fbarray

dpdklab at iol.unh.edu dpdklab at iol.unh.edu
Thu Mar 7 10:24:09 CET 2024


Test-Label: iol-unit-arm64-testing
Test-Status: SUCCESS
http://dpdk.org/patch/138085

_Testing PASS_

Submitter: Artemy Kovalyov <artemyko at nvidia.com>
Date: Thursday, March 07 2024 07:01:13 
DPDK git baseline: Repo:dpdk
  Branch: master
  CommitID:2a454f84f715608ee709a4c6ba00edf2e4b62b69

138082-138085 --> testing pass

Test environment and result as below:

+-----------------------+----------------+---------------------------+------------------------------+
|      Environment      | dpdk_unit_test | cryptodev_sw_zuc_autotest | cryptodev_sw_snow3g_autotest |
+=======================+================+===========================+==============================+
| CentOS Stream 9 (ARM) | PASS           | SKIPPED                   | SKIPPED                      |
+-----------------------+----------------+---------------------------+------------------------------+
| Fedora 37 (ARM)       | PASS           | SKIPPED                   | SKIPPED                      |
+-----------------------+----------------+---------------------------+------------------------------+
| Debian 12 (arm)       | PASS           | PASS                      | PASS                         |
+-----------------------+----------------+---------------------------+------------------------------+
| Fedora 38 (ARM)       | PASS           | SKIPPED                   | SKIPPED                      |
+-----------------------+----------------+---------------------------+------------------------------+
| Ubuntu 20.04 (ARM)    | PASS           | SKIPPED                   | SKIPPED                      |
+-----------------------+----------------+---------------------------+------------------------------+


CentOS Stream 9 (ARM)
	Kernel: Container Host Kernel
	Compiler: gcc 11.3.1

Fedora 37 (ARM)
	Kernel: Depends on container host
	Compiler: gcc 12.3.1

Debian 12 (arm)
	Kernel: Container Host Kernel
	Compiler: gcc 11

Fedora 38 (ARM)
	Kernel: Depends on container host
	Compiler: gcc 13.1.1

Ubuntu 20.04 (ARM)
	Kernel: Container Host Kernel
	Compiler: gcc 9.4.0

To view detailed results, visit:
https://lab.dpdk.org/results/dashboard/patchsets/29452/

UNH-IOL DPDK Community Lab

To manage your email subscriptions, visit: 
https://lab.dpdk.org/results/dashboard/preferences/subscriptions/


More information about the test-report mailing list