|SUCCESS| pw138105-138103 [PATCH] [v2,5/5] test/argparse: refine tes

dpdklab at iol.unh.edu dpdklab at iol.unh.edu
Thu Mar 7 17:46:22 CET 2024


Test-Label: iol-unit-arm64-testing
Test-Status: SUCCESS
http://dpdk.org/patch/138103

_Testing PASS_

Submitter: fengchengwen <fengchengwen at huawei.com>
Date: Thursday, March 07 2024 13:07:42 
DPDK git baseline: Repo:dpdk
  Branch: master
  CommitID:19082c1fac430c74bb4b1c101edd12d88928e7c2

138105-138103 --> testing pass

Test environment and result as below:

+--------------------------+----------------+
|       Environment        | dpdk_unit_test |
+==========================+================+
| CentOS Stream 9 (ARM)    | PASS           |
+--------------------------+----------------+
| Debian 11 (Buster) (ARM) | PASS           |
+--------------------------+----------------+
| Debian 12 (arm)          | PASS           |
+--------------------------+----------------+


CentOS Stream 9 (ARM)
	Kernel: Container Host Kernel
	Compiler: gcc 11.3.1

Debian 11 (Buster) (ARM)
	Kernel: Container Host Kernel
	Compiler: gcc 10.2.1

Debian 12 (arm)
	Kernel: Container Host Kernel
	Compiler: gcc 11

To view detailed results, visit:
https://lab.dpdk.org/results/dashboard/patchsets/29463/

UNH-IOL DPDK Community Lab

To manage your email subscriptions, visit: 
https://lab.dpdk.org/results/dashboard/preferences/subscriptions/


More information about the test-report mailing list