|SUCCESS| pw138115 [PATCH] net/nfp: fix failure of PF initiation on

dpdklab at iol.unh.edu dpdklab at iol.unh.edu
Fri Mar 8 05:10:14 CET 2024


Test-Label: iol-compile-arm64-testing
Test-Status: SUCCESS
http://dpdk.org/patch/138115

_Testing PASS_

Submitter: Chaoyong He <chaoyong.he at corigine.com>
Date: Friday, March 08 2024 03:11:10 
DPDK git baseline: Repo:dpdk
  Branch: master
  CommitID:7fcf4e8a03c4b0d2c6cec11ddd18c7bf88ba0384

138115 --> testing pass

Test environment and result as below:

+--------------------------------------+--------------------+
|             Environment              | dpdk_meson_compile |
+======================================+====================+
| Ubuntu 20.04 ARM SVE                 | PASS               |
+--------------------------------------+--------------------+
| Debian 12 (arm)                      | PASS               |
+--------------------------------------+--------------------+
| Fedora 38 (ARM)                      | PASS               |
+--------------------------------------+--------------------+
| Ubuntu 20.04 (ARM)                   | PASS               |
+--------------------------------------+--------------------+
| Fedora 37 (ARM)                      | PASS               |
+--------------------------------------+--------------------+
| Debian 11 (Buster) (ARM)             | PASS               |
+--------------------------------------+--------------------+
| CentOS Stream 9 (ARM)                | PASS               |
+--------------------------------------+--------------------+
| Ubuntu 20.04 ARM Clang Cross Compile | PASS               |
+--------------------------------------+--------------------+


Ubuntu 20.04 ARM SVE
	Kernel: 5.4.0-80-generic
	Compiler: gcc 10.3.0 (Ubuntu 10.3.0-1ubuntu1~20.04)

Debian 12 (arm)
	Kernel: Container Host Kernel
	Compiler: gcc 11

Fedora 38 (ARM)
	Kernel: Depends on container host
	Compiler: gcc 13.1.1

Ubuntu 20.04 (ARM)
	Kernel: Container Host Kernel
	Compiler: gcc 9.4.0

Fedora 37 (ARM)
	Kernel: Depends on container host
	Compiler: gcc 12.3.1

Debian 11 (Buster) (ARM)
	Kernel: Container Host Kernel
	Compiler: gcc 10.2.1

CentOS Stream 9 (ARM)
	Kernel: Container Host Kernel
	Compiler: gcc 11.3.1

Ubuntu 20.04 ARM Clang Cross Compile
	Kernel: 5.4.0-72-generic
	Compiler: clang version 10.0.0-4ubuntu1

To view detailed results, visit:
https://lab.dpdk.org/results/dashboard/patchsets/29470/

UNH-IOL DPDK Community Lab

To manage your email subscriptions, visit: 
https://lab.dpdk.org/results/dashboard/preferences/subscriptions/


More information about the test-report mailing list