|SUCCESS| pw138122 [PATCH] net/nfp: fix skip reload firmware issue
dpdklab at iol.unh.edu
dpdklab at iol.unh.edu
Fri Mar 8 13:14:59 CET 2024
Test-Label: iol-compile-amd64-testing
Test-Status: SUCCESS
http://dpdk.org/patch/138122
_Testing PASS_
Submitter: Chaoyong He <chaoyong.he at corigine.com>
Date: Friday, March 08 2024 10:50:04
DPDK git baseline: Repo:dpdk
Branch: master
CommitID:a86f381b826660e88794754c41d3aec79ce9b87c
138122 --> testing pass
Test environment and result as below:
+---------------------+----------------------+--------------------+
| Environment | dpdk_mingw64_compile | dpdk_meson_compile |
+=====================+======================+====================+
| Windows Server 2019 | PASS | PASS |
+---------------------+----------------------+--------------------+
| Windows Server 2022 | SKIPPED | PASS |
+---------------------+----------------------+--------------------+
| FreeBSD 13.2 | SKIPPED | PASS |
+---------------------+----------------------+--------------------+
Windows Server 2019
Kernel: 10.0
Compiler: clang 14.0 and gcc 8.1.0 (MinGW)
Windows Server 2022
Kernel: OS Build 20348.2031
Compiler: MSVC VS-Preview
FreeBSD 13.2
Kernel: 13.2
Compiler: clang 11.3.0
To view detailed results, visit:
https://lab.dpdk.org/results/dashboard/patchsets/29477/
UNH-IOL DPDK Community Lab
To manage your email subscriptions, visit:
https://lab.dpdk.org/results/dashboard/preferences/subscriptions/
More information about the test-report
mailing list