|SUCCESS| [GIT MASTER] 1e1f6d551be99b66b7d2e0a937a6e8a7aa8f1f1d

dpdklab at iol.unh.edu dpdklab at iol.unh.edu
Fri Mar 8 15:45:52 CET 2024


_Testing PASS_

Branch: 21.11-staging

1e1f6d551be99b66b7d2e0a937a6e8a7aa8f1f1d --> testing pass

Test environment and result as below:

+---------------------+--------------------+----------------------+
|     Environment     | dpdk_meson_compile | dpdk_mingw64_compile |
+=====================+====================+======================+
| FreeBSD 13.2        | PASS               | SKIPPED              |
+---------------------+--------------------+----------------------+
| Windows Server 2019 | PASS               | PASS                 |
+---------------------+--------------------+----------------------+


FreeBSD 13.2
	Kernel: 13.2
	Compiler: clang 11.3.0

Windows Server 2019
	Kernel: 10.0
	Compiler: clang 14.0 and gcc 8.1.0 (MinGW)

To view detailed results, visit:
https://lab.dpdk.org/results/dashboard/tarballs/28395/

UNH-IOL DPDK Community Lab

To manage your email subscriptions, visit: 
https://lab.dpdk.org/results/dashboard/preferences/subscriptions/


More information about the test-report mailing list