|SUCCESS| pw138128 [PATCH] add a ignore list for get_maintainer
dpdklab at iol.unh.edu
dpdklab at iol.unh.edu
Fri Mar 8 18:44:54 CET 2024
Test-Label: iol-compile-arm64-testing
Test-Status: SUCCESS
http://dpdk.org/patch/138128
_Testing PASS_
Submitter: Stephen Hemminger <stephen at networkplumber.org>
Date: Friday, March 08 2024 17:07:17
DPDK git baseline: Repo:dpdk
Branch: master
CommitID:a86f381b826660e88794754c41d3aec79ce9b87c
138128 --> testing pass
Test environment and result as below:
+--------------------------------------+--------------------+
| Environment | dpdk_meson_compile |
+======================================+====================+
| Ubuntu 20.04 ARM SVE | PASS |
+--------------------------------------+--------------------+
| Debian 12 (arm) | PASS |
+--------------------------------------+--------------------+
| Ubuntu 20.04 ARM Clang Cross Compile | PASS |
+--------------------------------------+--------------------+
Ubuntu 20.04 ARM SVE
Kernel: 5.4.0-80-generic
Compiler: gcc 10.3.0 (Ubuntu 10.3.0-1ubuntu1~20.04)
Debian 12 (arm)
Kernel: Container Host Kernel
Compiler: gcc 11
Ubuntu 20.04 ARM Clang Cross Compile
Kernel: 5.4.0-72-generic
Compiler: clang version 10.0.0-4ubuntu1
To view detailed results, visit:
https://lab.dpdk.org/results/dashboard/patchsets/29480/
UNH-IOL DPDK Community Lab
To manage your email subscriptions, visit:
https://lab.dpdk.org/results/dashboard/preferences/subscriptions/
More information about the test-report
mailing list