|SUCCESS| pw138135 [PATCH] [v3] app/dma-perf: add average latency pe

dpdklab at iol.unh.edu dpdklab at iol.unh.edu
Sat Mar 9 00:30:03 CET 2024


Test-Label: iol-unit-arm64-testing
Test-Status: SUCCESS
http://dpdk.org/patch/138135

_Testing PASS_

Submitter: Vipin Varghese <vipin.varghese at amd.com>
Date: Friday, March 08 2024 19:06:46 
DPDK git baseline: Repo:dpdk
  Branch: master
  CommitID:a86f381b826660e88794754c41d3aec79ce9b87c

138135 --> testing pass

Test environment and result as below:

+--------------------------+----------------+------------------------------+--------------+
|       Environment        | dpdk_unit_test | cryptodev_sw_snow3g_autotest | lpm_autotest |
+==========================+================+==============================+==============+
| CentOS Stream 9 (ARM)    | PASS           | SKIPPED                      | SKIPPED      |
+--------------------------+----------------+------------------------------+--------------+
| Debian 11 (Buster) (ARM) | PASS           | SKIPPED                      | SKIPPED      |
+--------------------------+----------------+------------------------------+--------------+
| Fedora 38 (ARM Clang)    | PASS           | SKIPPED                      | SKIPPED      |
+--------------------------+----------------+------------------------------+--------------+
| Debian 12 (arm)          | PASS           | PASS                         | SKIPPED      |
+--------------------------+----------------+------------------------------+--------------+
| Fedora 38 (ARM)          | PASS           | SKIPPED                      | SKIPPED      |
+--------------------------+----------------+------------------------------+--------------+
| Ubuntu 20.04 ARM SVE     | SKIPPED        | SKIPPED                      | PASS         |
+--------------------------+----------------+------------------------------+--------------+


CentOS Stream 9 (ARM)
	Kernel: Container Host Kernel
	Compiler: gcc 11.3.1

Debian 11 (Buster) (ARM)
	Kernel: Container Host Kernel
	Compiler: gcc 10.2.1

Fedora 38 (ARM Clang)
	Kernel: Depends on container host
	Compiler: clang 16.0.3

Debian 12 (arm)
	Kernel: Container Host Kernel
	Compiler: gcc 11

Fedora 38 (ARM)
	Kernel: Depends on container host
	Compiler: gcc 13.1.1

Ubuntu 20.04 ARM SVE
	Kernel: 5.4.0-80-generic
	Compiler: gcc 10.3.0 (Ubuntu 10.3.0-1ubuntu1~20.04)

To view detailed results, visit:
https://lab.dpdk.org/results/dashboard/patchsets/29485/

UNH-IOL DPDK Community Lab

To manage your email subscriptions, visit: 
https://lab.dpdk.org/results/dashboard/preferences/subscriptions/


More information about the test-report mailing list