|SUCCESS| pw138141 [PATCH] [RFC,v3] tap: do not duplicate fd's

dpdklab at iol.unh.edu dpdklab at iol.unh.edu
Sat Mar 9 20:08:41 CET 2024


Test-Label: iol-unit-arm64-testing
Test-Status: SUCCESS
http://dpdk.org/patch/138141

_Testing PASS_

Submitter: Stephen Hemminger <stephen at networkplumber.org>
Date: Saturday, March 09 2024 18:12:54 
DPDK git baseline: Repo:dpdk
  Branch: master
  CommitID:a2a2ce171d00b8f27c8c43c37d5dd8505d8f2e89

138141 --> testing pass

Test environment and result as below:

+--------------------------+------------------------------+----------------+
|       Environment        | cryptodev_sw_snow3g_autotest | dpdk_unit_test |
+==========================+==============================+================+
| Debian 12 (arm)          | PASS                         | SKIPPED        |
+--------------------------+------------------------------+----------------+
| CentOS Stream 9 (ARM)    | SKIPPED                      | PASS           |
+--------------------------+------------------------------+----------------+
| Debian 11 (Buster) (ARM) | SKIPPED                      | PASS           |
+--------------------------+------------------------------+----------------+


Debian 12 (arm)
	Kernel: Container Host Kernel
	Compiler: gcc 11

CentOS Stream 9 (ARM)
	Kernel: Container Host Kernel
	Compiler: gcc 11.3.1

Debian 11 (Buster) (ARM)
	Kernel: Container Host Kernel
	Compiler: gcc 10.2.1

To view detailed results, visit:
https://lab.dpdk.org/results/dashboard/patchsets/29489/

UNH-IOL DPDK Community Lab

To manage your email subscriptions, visit: 
https://lab.dpdk.org/results/dashboard/preferences/subscriptions/


More information about the test-report mailing list