|SUCCESS| pw138144 [PATCH] net/nfp: fix getting firmware VNIC versio
dpdklab at iol.unh.edu
dpdklab at iol.unh.edu
Mon Mar 11 03:41:49 CET 2024
Test-Label: iol-unit-amd64-testing
Test-Status: SUCCESS
http://dpdk.org/patch/138144
_Testing PASS_
Submitter: Chaoyong He <chaoyong.he at corigine.com>
Date: Monday, March 11 2024 01:54:14
DPDK git baseline: Repo:dpdk
Branch: master
CommitID:a2a2ce171d00b8f27c8c43c37d5dd8505d8f2e89
138144 --> testing pass
Test environment and result as below:
+---------------------+----------------+
| Environment | dpdk_unit_test |
+=====================+================+
| CentOS Stream 8 | PASS |
+---------------------+----------------+
| Fedora 37 | PASS |
+---------------------+----------------+
| Debian Bullseye | PASS |
+---------------------+----------------+
| Debian 12 (arm) | PASS |
+---------------------+----------------+
| Fedora 38 | PASS |
+---------------------+----------------+
| Windows Server 2019 | PASS |
+---------------------+----------------+
CentOS Stream 8
Kernel: 4.18.0-240.10.1.el8_3.x86_64
Compiler: gcc 8.4.1 20200928
Fedora 37
Kernel: Depends on container host system
Compiler: gcc 12.3.1
Debian Bullseye
Kernel: 5.4.0-122-generic
Compiler: gcc 10.2.1-6
Debian 12 (arm)
Kernel: Container Host Kernel
Compiler: gcc 11
Fedora 38
Kernel: Depends on container host
Compiler: gcc 13.1.1
Windows Server 2019
Kernel: 10.0
Compiler: clang 14.0 and gcc 8.1.0 (MinGW)
To view detailed results, visit:
https://lab.dpdk.org/results/dashboard/patchsets/29492/
UNH-IOL DPDK Community Lab
To manage your email subscriptions, visit:
https://lab.dpdk.org/results/dashboard/preferences/subscriptions/
More information about the test-report
mailing list