|SUCCESS| pw138173-138176 [PATCH] [v6,4/4] hash: add SVE support for
dpdklab at iol.unh.edu
dpdklab at iol.unh.edu
Tue Mar 12 01:29:14 CET 2024
Test-Label: iol-unit-arm64-testing
Test-Status: SUCCESS
http://dpdk.org/patch/138176
_Testing PASS_
Submitter: Yoan Picchi <yoan.picchi at arm.com>
Date: Monday, March 11 2024 23:21:12
DPDK git baseline: Repo:dpdk
Branch: master
CommitID:a86f381b826660e88794754c41d3aec79ce9b87c
138173-138176 --> testing pass
Test environment and result as below:
+--------------------------+----------------+------------------------------+---------------------------+
| Environment | dpdk_unit_test | cryptodev_sw_snow3g_autotest | cryptodev_sw_zuc_autotest |
+==========================+================+==============================+===========================+
| Debian 12 (arm) | PASS | PASS | PASS |
+--------------------------+----------------+------------------------------+---------------------------+
| Debian 11 (Buster) (ARM) | PASS | SKIPPED | SKIPPED |
+--------------------------+----------------+------------------------------+---------------------------+
| CentOS Stream 9 (ARM) | PASS | SKIPPED | SKIPPED |
+--------------------------+----------------+------------------------------+---------------------------+
| Fedora 38 (ARM) | PASS | SKIPPED | SKIPPED |
+--------------------------+----------------+------------------------------+---------------------------+
| Ubuntu 20.04 (ARM) | PASS | SKIPPED | SKIPPED |
+--------------------------+----------------+------------------------------+---------------------------+
Debian 12 (arm)
Kernel: Container Host Kernel
Compiler: gcc 11
Debian 11 (Buster) (ARM)
Kernel: Container Host Kernel
Compiler: gcc 10.2.1
CentOS Stream 9 (ARM)
Kernel: Container Host Kernel
Compiler: gcc 11.3.1
Fedora 38 (ARM)
Kernel: Depends on container host
Compiler: gcc 13.1.1
Ubuntu 20.04 (ARM)
Kernel: Container Host Kernel
Compiler: gcc 9.4.0
To view detailed results, visit:
https://lab.dpdk.org/results/dashboard/patchsets/29506/
UNH-IOL DPDK Community Lab
To manage your email subscriptions, visit:
https://lab.dpdk.org/results/dashboard/preferences/subscriptions/
More information about the test-report
mailing list