|SUCCESS| pw138177 [PATCH] [v2] doc: update size parameter details

dpdklab at iol.unh.edu dpdklab at iol.unh.edu
Tue Mar 12 06:54:37 CET 2024


Test-Label: iol-unit-arm64-testing
Test-Status: SUCCESS
http://dpdk.org/patch/138177

_Testing PASS_

Submitter: Vipin Varghese <vipin.varghese at amd.com>
Date: Tuesday, March 12 2024 04:22:01 
DPDK git baseline: Repo:dpdk
  Branch: master
  CommitID:a86f381b826660e88794754c41d3aec79ce9b87c

138177 --> testing pass

Test environment and result as below:

+-----------------+------------------------------+---------------------------+----------------+
|   Environment   | cryptodev_sw_snow3g_autotest | cryptodev_sw_zuc_autotest | dpdk_unit_test |
+=================+==============================+===========================+================+
| Debian 12 (arm) | PASS                         | PASS                      | SKIPPED        |
+-----------------+------------------------------+---------------------------+----------------+
| Fedora 38 (ARM) | SKIPPED                      | SKIPPED                   | PASS           |
+-----------------+------------------------------+---------------------------+----------------+


Debian 12 (arm)
	Kernel: Container Host Kernel
	Compiler: gcc 11

Fedora 38 (ARM)
	Kernel: Depends on container host
	Compiler: gcc 13.1.1

To view detailed results, visit:
https://lab.dpdk.org/results/dashboard/patchsets/29507/

UNH-IOL DPDK Community Lab

To manage your email subscriptions, visit: 
https://lab.dpdk.org/results/dashboard/preferences/subscriptions/


More information about the test-report mailing list