|SUCCESS| pw138177 [PATCH] [v2] doc: update size parameter details

dpdklab at iol.unh.edu dpdklab at iol.unh.edu
Tue Mar 12 07:03:08 CET 2024


Test-Label: iol-abi-testing
Test-Status: SUCCESS
http://dpdk.org/patch/138177

_Testing PASS_

Submitter: Vipin Varghese <vipin.varghese at amd.com>
Date: Tuesday, March 12 2024 04:22:01 
DPDK git baseline: Repo:dpdk
  Branch: master
  CommitID:a86f381b826660e88794754c41d3aec79ce9b87c

138177 --> testing pass

Test environment and result as below:

+-----------------+----------+
|   Environment   | abi_test |
+=================+==========+
| CentOS Stream 9 | PASS     |
+-----------------+----------+
| Debian Bullseye | PASS     |
+-----------------+----------+
| Debian 12 (arm) | PASS     |
+-----------------+----------+
| CentOS Stream 8 | PASS     |
+-----------------+----------+


CentOS Stream 9
	Kernel: 4.18.0-240.10.1.el8_3.x86_64
	Compiler: gcc 11.3.1 20220421

Debian Bullseye
	Kernel: 5.4.0-122-generic
	Compiler: gcc 10.2.1-6

Debian 12 (arm)
	Kernel: Container Host Kernel
	Compiler: gcc 11

CentOS Stream 8
	Kernel: 4.18.0-240.10.1.el8_3.x86_64
	Compiler: gcc 8.4.1 20200928

To view detailed results, visit:
https://lab.dpdk.org/results/dashboard/patchsets/29507/

UNH-IOL DPDK Community Lab

To manage your email subscriptions, visit: 
https://lab.dpdk.org/results/dashboard/preferences/subscriptions/


More information about the test-report mailing list