|SUCCESS| [GIT MASTER] e3faaed01e14ffdfe8f4190030540ed874184b55
dpdklab at iol.unh.edu
dpdklab at iol.unh.edu
Tue Mar 12 07:55:49 CET 2024
_Testing PASS_
Branch: dpdk-next-net
e3faaed01e14ffdfe8f4190030540ed874184b55 --> testing pass
Test environment and result as below:
+--------------------------+----------------+---------------------------+
| Environment | dpdk_unit_test | cryptodev_sw_zuc_autotest |
+==========================+================+===========================+
| CentOS Stream 9 (ARM) | PASS | SKIPPED |
+--------------------------+----------------+---------------------------+
| Debian 12 (arm) | PASS | PASS |
+--------------------------+----------------+---------------------------+
| Debian 11 (Buster) (ARM) | PASS | SKIPPED |
+--------------------------+----------------+---------------------------+
| Fedora 37 (ARM) | PASS | SKIPPED |
+--------------------------+----------------+---------------------------+
| Fedora 38 (ARM) | PASS | SKIPPED |
+--------------------------+----------------+---------------------------+
CentOS Stream 9 (ARM)
Kernel: Container Host Kernel
Compiler: gcc 11.3.1
Debian 12 (arm)
Kernel: Container Host Kernel
Compiler: gcc 11
Debian 11 (Buster) (ARM)
Kernel: Container Host Kernel
Compiler: gcc 10.2.1
Fedora 37 (ARM)
Kernel: Depends on container host
Compiler: gcc 12.3.1
Fedora 38 (ARM)
Kernel: Depends on container host
Compiler: gcc 13.1.1
To view detailed results, visit:
https://lab.dpdk.org/results/dashboard/tarballs/28439/
UNH-IOL DPDK Community Lab
To manage your email subscriptions, visit:
https://lab.dpdk.org/results/dashboard/preferences/subscriptions/
More information about the test-report
mailing list