|SUCCESS| pw138178-138198 [PATCH] [v2,21/21] test/security: add out
dpdklab at iol.unh.edu
dpdklab at iol.unh.edu
Tue Mar 12 08:50:09 CET 2024
Test-Label: iol-abi-testing
Test-Status: SUCCESS
http://dpdk.org/patch/138198
_Testing PASS_
Submitter: Aakash Sasidharan <asasidharan at marvell.com>
Date: Tuesday, March 12 2024 07:18:05
DPDK git baseline: Repo:dpdk
Branch: master
CommitID:a86f381b826660e88794754c41d3aec79ce9b87c
138178-138198 --> testing pass
Test environment and result as below:
+-----------------+----------+
| Environment | abi_test |
+=================+==========+
| Debian 12 (arm) | PASS |
+-----------------+----------+
| Fedora 37 | PASS |
+-----------------+----------+
| RHEL8 | PASS |
+-----------------+----------+
Debian 12 (arm)
Kernel: Container Host Kernel
Compiler: gcc 11
Fedora 37
Kernel: Depends on container host system
Compiler: gcc 12.3.1
RHEL8
Kernel: 4.18.0-240.10.1.el8_3.x86_64
Compiler: gcc 8.3.1 20191121 (Red Hat 8.3.1-5)
To view detailed results, visit:
https://lab.dpdk.org/results/dashboard/patchsets/29508/
UNH-IOL DPDK Community Lab
To manage your email subscriptions, visit:
https://lab.dpdk.org/results/dashboard/preferences/subscriptions/
More information about the test-report
mailing list