|SUCCESS| pw138220-138223 [PATCH] [v7,4/4] hash: add SVE support for

dpdklab at iol.unh.edu dpdklab at iol.unh.edu
Tue Mar 12 19:00:03 CET 2024


Test-Label: iol-abi-testing
Test-Status: SUCCESS
http://dpdk.org/patch/138223

_Testing PASS_

Submitter: Yoan Picchi <yoan.picchi at arm.com>
Date: Tuesday, March 12 2024 15:42:15 
DPDK git baseline: Repo:dpdk
  Branch: master
  CommitID:a86f381b826660e88794754c41d3aec79ce9b87c

138220-138223 --> testing pass

Test environment and result as below:

+-----------------+----------+
|   Environment   | abi_test |
+=================+==========+
| CentOS Stream 9 | PASS     |
+-----------------+----------+
| Fedora 37       | PASS     |
+-----------------+----------+
| CentOS Stream 8 | PASS     |
+-----------------+----------+
| Ubuntu 22.04    | PASS     |
+-----------------+----------+


CentOS Stream 9
	Kernel: 4.18.0-240.10.1.el8_3.x86_64
	Compiler: gcc 11.3.1 20220421

Fedora 37
	Kernel: Depends on container host system
	Compiler: gcc 12.3.1

CentOS Stream 8
	Kernel: 4.18.0-240.10.1.el8_3.x86_64
	Compiler: gcc 8.4.1 20200928

Ubuntu 22.04
	Kernel: 4.18.0-240.10.1.el8_3.x86_64
	Compiler: gcc 11.3.0

To view detailed results, visit:
https://lab.dpdk.org/results/dashboard/patchsets/29520/

UNH-IOL DPDK Community Lab

To manage your email subscriptions, visit: 
https://lab.dpdk.org/results/dashboard/preferences/subscriptions/


More information about the test-report mailing list