|SUCCESS| pw138251-138281 [PATCH] [v4,31/31] net/ena: upgrade driver
dpdklab at iol.unh.edu
dpdklab at iol.unh.edu
Wed Mar 13 00:08:06 CET 2024
Test-Label: iol-unit-amd64-testing
Test-Status: SUCCESS
http://dpdk.org/patch/138281
_Testing PASS_
Submitter: Brandes, Shai <shaibran at amazon.com>
Date: Tuesday, March 12 2024 18:07:16
DPDK git baseline: Repo:dpdk
Branch: master
CommitID:544d6d79a6ff0964a79a57efb102e87fdbd107d9
138251-138281 --> testing pass
Test environment and result as below:
+-----------------+----------------+
| Environment | dpdk_unit_test |
+=================+================+
| CentOS Stream 8 | PASS |
+-----------------+----------------+
| Debian Bullseye | PASS |
+-----------------+----------------+
| CentOS Stream 9 | PASS |
+-----------------+----------------+
| Ubuntu 22.04 | PASS |
+-----------------+----------------+
| Fedora 37 | PASS |
+-----------------+----------------+
| Debian 12 (arm) | PASS |
+-----------------+----------------+
| Fedora 38 | PASS |
+-----------------+----------------+
| RHEL8 | PASS |
+-----------------+----------------+
CentOS Stream 8
Kernel: 4.18.0-240.10.1.el8_3.x86_64
Compiler: gcc 8.4.1 20200928
Debian Bullseye
Kernel: 5.4.0-122-generic
Compiler: gcc 10.2.1-6
CentOS Stream 9
Kernel: 4.18.0-240.10.1.el8_3.x86_64
Compiler: gcc 11.3.1 20220421
Ubuntu 22.04
Kernel: 4.18.0-240.10.1.el8_3.x86_64
Compiler: gcc 11.3.0
Fedora 37
Kernel: Depends on container host system
Compiler: gcc 12.3.1
Debian 12 (arm)
Kernel: Container Host Kernel
Compiler: gcc 11
Fedora 38
Kernel: Depends on container host
Compiler: gcc 13.1.1
RHEL8
Kernel: 4.18.0-240.10.1.el8_3.x86_64
Compiler: gcc 8.3.1 20191121 (Red Hat 8.3.1-5)
To view detailed results, visit:
https://lab.dpdk.org/results/dashboard/patchsets/29526/
UNH-IOL DPDK Community Lab
To manage your email subscriptions, visit:
https://lab.dpdk.org/results/dashboard/preferences/subscriptions/
More information about the test-report
mailing list