|SUCCESS| pw138283 [PATCH] test-pmd: add more packet decode options
dpdklab at iol.unh.edu
dpdklab at iol.unh.edu
Wed Mar 13 00:24:39 CET 2024
Test-Label: iol-abi-testing
Test-Status: SUCCESS
http://dpdk.org/patch/138283
_Testing PASS_
Submitter: Stephen Hemminger <stephen at networkplumber.org>
Date: Tuesday, March 12 2024 22:01:27
DPDK git baseline: Repo:dpdk
Branch: master
CommitID:544d6d79a6ff0964a79a57efb102e87fdbd107d9
138283 --> testing pass
Test environment and result as below:
+-----------------+----------+
| Environment | abi_test |
+=================+==========+
| CentOS Stream 9 | PASS |
+-----------------+----------+
| Ubuntu 22.04 | PASS |
+-----------------+----------+
| Debian 12 (arm) | PASS |
+-----------------+----------+
| RHEL8 | PASS |
+-----------------+----------+
CentOS Stream 9
Kernel: 4.18.0-240.10.1.el8_3.x86_64
Compiler: gcc 11.3.1 20220421
Ubuntu 22.04
Kernel: 4.18.0-240.10.1.el8_3.x86_64
Compiler: gcc 11.3.0
Debian 12 (arm)
Kernel: Container Host Kernel
Compiler: gcc 11
RHEL8
Kernel: 4.18.0-240.10.1.el8_3.x86_64
Compiler: gcc 8.3.1 20191121 (Red Hat 8.3.1-5)
To view detailed results, visit:
https://lab.dpdk.org/results/dashboard/patchsets/29528/
UNH-IOL DPDK Community Lab
To manage your email subscriptions, visit:
https://lab.dpdk.org/results/dashboard/preferences/subscriptions/
More information about the test-report
mailing list