|SUCCESS| [GIT MASTER] 782b5a22bc45e37565b4731659a2f406cbe442de
dpdklab at iol.unh.edu
dpdklab at iol.unh.edu
Wed Mar 13 07:09:50 CET 2024
_Testing PASS_
Branch: tags/v22.11
782b5a22bc45e37565b4731659a2f406cbe442de --> testing pass
Test environment and result as below:
+----------------------+------------------------------+--------------+---------------------------+
| Environment | cryptodev_sw_snow3g_autotest | lpm_autotest | cryptodev_sw_zuc_autotest |
+======================+==============================+==============+===========================+
| Debian 12 (arm) | PASS | SKIPPED | PASS |
+----------------------+------------------------------+--------------+---------------------------+
| Ubuntu 20.04 ARM SVE | SKIPPED | PASS | SKIPPED |
+----------------------+------------------------------+--------------+---------------------------+
Debian 12 (arm)
Kernel: Container Host Kernel
Compiler: gcc 11
Ubuntu 20.04 ARM SVE
Kernel: 5.4.0-80-generic
Compiler: gcc 10.3.0 (Ubuntu 10.3.0-1ubuntu1~20.04)
To view detailed results, visit:
https://lab.dpdk.org/results/dashboard/tarballs/28460/
UNH-IOL DPDK Community Lab
To manage your email subscriptions, visit:
https://lab.dpdk.org/results/dashboard/preferences/subscriptions/
More information about the test-report
mailing list