|SUCCESS| pw138307 [PATCH] [v3,1/1] net/mana: add vlan tagging suppo

dpdklab at iol.unh.edu dpdklab at iol.unh.edu
Wed Mar 13 13:20:53 CET 2024


Test-Label: iol-abi-testing
Test-Status: SUCCESS
http://dpdk.org/patch/138307

_Testing PASS_

Submitter: Wei Hu <weh at linux.microsoft.com>
Date: Wednesday, March 13 2024 09:03:40 
DPDK git baseline: Repo:dpdk
  Branch: master
  CommitID:544d6d79a6ff0964a79a57efb102e87fdbd107d9

138307 --> testing pass

Test environment and result as below:

+-----------------+----------+
|   Environment   | abi_test |
+=================+==========+
| Fedora 37       | PASS     |
+-----------------+----------+
| Ubuntu 22.04    | PASS     |
+-----------------+----------+
| CentOS Stream 8 | PASS     |
+-----------------+----------+
| RHEL8           | PASS     |
+-----------------+----------+


Fedora 37
	Kernel: Depends on container host system
	Compiler: gcc 12.3.1

Ubuntu 22.04
	Kernel: 4.18.0-240.10.1.el8_3.x86_64
	Compiler: gcc 11.3.0

CentOS Stream 8
	Kernel: 4.18.0-240.10.1.el8_3.x86_64
	Compiler: gcc 8.4.1 20200928

RHEL8
	Kernel: 4.18.0-240.10.1.el8_3.x86_64
	Compiler: gcc 8.3.1 20191121 (Red Hat 8.3.1-5)

To view detailed results, visit:
https://lab.dpdk.org/results/dashboard/patchsets/29532/

UNH-IOL DPDK Community Lab

To manage your email subscriptions, visit: 
https://lab.dpdk.org/results/dashboard/preferences/subscriptions/


More information about the test-report mailing list