|SUCCESS| pw138335 [PATCH] [RFC] doc: update required Mingw version
dpdklab at iol.unh.edu
dpdklab at iol.unh.edu
Wed Mar 13 23:55:01 CET 2024
Test-Label: iol-abi-testing
Test-Status: SUCCESS
http://dpdk.org/patch/138335
_Testing PASS_
Submitter: Stephen Hemminger <stephen at networkplumber.org>
Date: Wednesday, March 13 2024 22:07:10
DPDK git baseline: Repo:dpdk
Branch: master
CommitID:cd218549b686d6be394ef3b171eafa16c038bfe3
138335 --> testing pass
Test environment and result as below:
+------------------+----------+
| Environment | abi_test |
+==================+==========+
| CentOS Stream 9 | PASS |
+------------------+----------+
| Fedora 38 | PASS |
+------------------+----------+
| Fedora 37 | PASS |
+------------------+----------+
| CentOS Stream 8 | PASS |
+------------------+----------+
| Debian 12 (arm) | PASS |
+------------------+----------+
| openSUSE Leap 15 | PASS |
+------------------+----------+
CentOS Stream 9
Kernel: 4.18.0-240.10.1.el8_3.x86_64
Compiler: gcc 11.3.1 20220421
Fedora 38
Kernel: Depends on container host
Compiler: gcc 13.1.1
Fedora 37
Kernel: Depends on container host system
Compiler: gcc 12.3.1
CentOS Stream 8
Kernel: 4.18.0-240.10.1.el8_3.x86_64
Compiler: gcc 8.4.1 20200928
Debian 12 (arm)
Kernel: Container Host Kernel
Compiler: gcc 11
openSUSE Leap 15
Kernel: 4.18.0-240.10.1.el8_3.x86_64
Compiler: gcc 7.5.0
To view detailed results, visit:
https://lab.dpdk.org/results/dashboard/patchsets/29539/
UNH-IOL DPDK Community Lab
To manage your email subscriptions, visit:
https://lab.dpdk.org/results/dashboard/preferences/subscriptions/
More information about the test-report
mailing list