|SUCCESS| [GIT MASTER] cd218549b686d6be394ef3b171eafa16c038bfe3
dpdklab at iol.unh.edu
dpdklab at iol.unh.edu
Thu Mar 14 01:32:37 CET 2024
_Testing PASS_
Branch: dpdk
cd218549b686d6be394ef3b171eafa16c038bfe3 --> testing pass
Test environment and result as below:
+-----------------+----------------+
| Environment | dpdk_unit_test |
+=================+================+
| CentOS Stream 8 | PASS |
+-----------------+----------------+
| CentOS Stream 9 | PASS |
+-----------------+----------------+
| Debian 12 (arm) | PASS |
+-----------------+----------------+
| Debian Bullseye | PASS |
+-----------------+----------------+
| Fedora 38 | PASS |
+-----------------+----------------+
| Fedora 37 | PASS |
+-----------------+----------------+
CentOS Stream 8
Kernel: 4.18.0-240.10.1.el8_3.x86_64
Compiler: gcc 8.4.1 20200928
CentOS Stream 9
Kernel: 4.18.0-240.10.1.el8_3.x86_64
Compiler: gcc 11.3.1 20220421
Debian 12 (arm)
Kernel: Container Host Kernel
Compiler: gcc 11
Debian Bullseye
Kernel: 5.4.0-122-generic
Compiler: gcc 10.2.1-6
Fedora 38
Kernel: Depends on container host
Compiler: gcc 13.1.1
Fedora 37
Kernel: Depends on container host system
Compiler: gcc 12.3.1
To view detailed results, visit:
https://lab.dpdk.org/results/dashboard/tarballs/28473/
UNH-IOL DPDK Community Lab
To manage your email subscriptions, visit:
https://lab.dpdk.org/results/dashboard/preferences/subscriptions/
More information about the test-report
mailing list