|SUCCESS| pw138337 [PATCH] [v2] examples/ipsec-secgw: fix SA salt en
dpdklab at iol.unh.edu
dpdklab at iol.unh.edu
Thu Mar 14 04:06:12 CET 2024
Test-Label: iol-unit-arm64-testing
Test-Status: SUCCESS
http://dpdk.org/patch/138337
_Testing PASS_
Submitter: Chaoyong He <chaoyong.he at corigine.com>
Date: Thursday, March 14 2024 02:00:52
DPDK git baseline: Repo:dpdk
Branch: master
CommitID:cd218549b686d6be394ef3b171eafa16c038bfe3
138337 --> testing pass
Test environment and result as below:
+--------------------------+----------------+
| Environment | dpdk_unit_test |
+==========================+================+
| CentOS Stream 9 (ARM) | PASS |
+--------------------------+----------------+
| Debian 12 (arm) | PASS |
+--------------------------+----------------+
| Debian 11 (Buster) (ARM) | PASS |
+--------------------------+----------------+
| Fedora 37 (ARM) | PASS |
+--------------------------+----------------+
| Fedora 38 (ARM) | PASS |
+--------------------------+----------------+
CentOS Stream 9 (ARM)
Kernel: Container Host Kernel
Compiler: gcc 11.3.1
Debian 12 (arm)
Kernel: Container Host Kernel
Compiler: gcc 11
Debian 11 (Buster) (ARM)
Kernel: Container Host Kernel
Compiler: gcc 10.2.1
Fedora 37 (ARM)
Kernel: Depends on container host
Compiler: gcc 12.3.1
Fedora 38 (ARM)
Kernel: Depends on container host
Compiler: gcc 13.1.1
To view detailed results, visit:
https://lab.dpdk.org/results/dashboard/patchsets/29541/
UNH-IOL DPDK Community Lab
To manage your email subscriptions, visit:
https://lab.dpdk.org/results/dashboard/preferences/subscriptions/
More information about the test-report
mailing list