|SUCCESS| [GIT MASTER] 22b0194263b83fa09a25511b26a38597fff44a2c

dpdklab at iol.unh.edu dpdklab at iol.unh.edu
Thu Mar 14 07:56:04 CET 2024


_Testing PASS_

Branch: dpdk-next-net

22b0194263b83fa09a25511b26a38597fff44a2c --> testing pass

Test environment and result as below:

+--------------------------+------------------------------+---------------------------+--------------+----------------+
|       Environment        | cryptodev_sw_snow3g_autotest | cryptodev_sw_zuc_autotest | lpm_autotest | dpdk_unit_test |
+==========================+==============================+===========================+==============+================+
| Debian 12 (arm)          | PASS                         | PASS                      | SKIPPED      | PASS           |
+--------------------------+------------------------------+---------------------------+--------------+----------------+
| Ubuntu 20.04 ARM SVE     | SKIPPED                      | SKIPPED                   | PASS         | SKIPPED        |
+--------------------------+------------------------------+---------------------------+--------------+----------------+
| CentOS Stream 9 (ARM)    | SKIPPED                      | SKIPPED                   | SKIPPED      | PASS           |
+--------------------------+------------------------------+---------------------------+--------------+----------------+
| Debian 11 (Buster) (ARM) | SKIPPED                      | SKIPPED                   | SKIPPED      | PASS           |
+--------------------------+------------------------------+---------------------------+--------------+----------------+
| Fedora 38 (ARM)          | SKIPPED                      | SKIPPED                   | SKIPPED      | PASS           |
+--------------------------+------------------------------+---------------------------+--------------+----------------+
| Ubuntu 20.04 (ARM)       | SKIPPED                      | SKIPPED                   | SKIPPED      | PASS           |
+--------------------------+------------------------------+---------------------------+--------------+----------------+


Debian 12 (arm)
	Kernel: Container Host Kernel
	Compiler: gcc 11

Ubuntu 20.04 ARM SVE
	Kernel: 5.4.0-80-generic
	Compiler: gcc 10.3.0 (Ubuntu 10.3.0-1ubuntu1~20.04)

CentOS Stream 9 (ARM)
	Kernel: Container Host Kernel
	Compiler: gcc 11.3.1

Debian 11 (Buster) (ARM)
	Kernel: Container Host Kernel
	Compiler: gcc 10.2.1

Fedora 38 (ARM)
	Kernel: Depends on container host
	Compiler: gcc 13.1.1

Ubuntu 20.04 (ARM)
	Kernel: Container Host Kernel
	Compiler: gcc 9.4.0

To view detailed results, visit:
https://lab.dpdk.org/results/dashboard/tarballs/28479/

UNH-IOL DPDK Community Lab

To manage your email subscriptions, visit: 
https://lab.dpdk.org/results/dashboard/preferences/subscriptions/


More information about the test-report mailing list