|SUCCESS| pw138397 [PATCH] net/gve: add IPv4 checksum offloading cap

dpdklab at iol.unh.edu dpdklab at iol.unh.edu
Thu Mar 14 18:54:22 CET 2024


Test-Label: iol-abi-testing
Test-Status: SUCCESS
http://dpdk.org/patch/138397

_Testing PASS_

Submitter: Rushil Gupta <rushilg at google.com>
Date: Thursday, March 14 2024 12:18:54 
DPDK git baseline: Repo:dpdk
  Branch: master
  CommitID:136cbcbe91ea5d7bdb337b168947828947647b45

138397 --> testing pass

Test environment and result as below:

+-----------------+----------+
|   Environment   | abi_test |
+=================+==========+
| Debian 12 (arm) | PASS     |
+-----------------+----------+
| Fedora 37       | PASS     |
+-----------------+----------+
| Fedora 38       | PASS     |
+-----------------+----------+


Debian 12 (arm)
	Kernel: Container Host Kernel
	Compiler: gcc 11

Fedora 37
	Kernel: Depends on container host system
	Compiler: gcc 12.3.1

Fedora 38
	Kernel: Depends on container host
	Compiler: clang 16.0.3

To view detailed results, visit:
https://lab.dpdk.org/results/dashboard/patchsets/29552/

UNH-IOL DPDK Community Lab

To manage your email subscriptions, visit: 
https://lab.dpdk.org/results/dashboard/preferences/subscriptions/


More information about the test-report mailing list