|SUCCESS| pw138384-138396 [PATCH] [13/13] net/mlx5/hws: fix port ID

dpdklab at iol.unh.edu dpdklab at iol.unh.edu
Thu Mar 14 19:35:10 CET 2024


Test-Label: iol-unit-arm64-testing
Test-Status: SUCCESS
http://dpdk.org/patch/138396

_Testing PASS_

Submitter: Itamar Gozlan <igozlan at nvidia.com>
Date: Thursday, March 14 2024 11:42:20 
DPDK git baseline: Repo:dpdk
  Branch: master
  CommitID:1585a8ddae09ea651ec0bfd462783b71b90534ab

138384-138396 --> testing pass

Test environment and result as below:

+--------------------------+----------------+---------------------------+------------------------------+
|       Environment        | dpdk_unit_test | cryptodev_sw_zuc_autotest | cryptodev_sw_snow3g_autotest |
+==========================+================+===========================+==============================+
| CentOS Stream 9 (ARM)    | PASS           | SKIPPED                   | SKIPPED                      |
+--------------------------+----------------+---------------------------+------------------------------+
| Debian 11 (Buster) (ARM) | PASS           | SKIPPED                   | SKIPPED                      |
+--------------------------+----------------+---------------------------+------------------------------+
| Debian 12 (arm)          | PASS           | PASS                      | PASS                         |
+--------------------------+----------------+---------------------------+------------------------------+
| Fedora 38 (ARM)          | PASS           | SKIPPED                   | SKIPPED                      |
+--------------------------+----------------+---------------------------+------------------------------+
| Fedora 37 (ARM)          | PASS           | SKIPPED                   | SKIPPED                      |
+--------------------------+----------------+---------------------------+------------------------------+
| Ubuntu 20.04 (ARM)       | PASS           | SKIPPED                   | SKIPPED                      |
+--------------------------+----------------+---------------------------+------------------------------+


CentOS Stream 9 (ARM)
	Kernel: Container Host Kernel
	Compiler: gcc 11.3.1

Debian 11 (Buster) (ARM)
	Kernel: Container Host Kernel
	Compiler: gcc 10.2.1

Debian 12 (arm)
	Kernel: Container Host Kernel
	Compiler: gcc 11

Fedora 38 (ARM)
	Kernel: Depends on container host
	Compiler: gcc 13.1.1

Fedora 37 (ARM)
	Kernel: Depends on container host
	Compiler: gcc 12.3.1

Ubuntu 20.04 (ARM)
	Kernel: Container Host Kernel
	Compiler: gcc 9.4.0

To view detailed results, visit:
https://lab.dpdk.org/results/dashboard/patchsets/29551/

UNH-IOL DPDK Community Lab

To manage your email subscriptions, visit: 
https://lab.dpdk.org/results/dashboard/preferences/subscriptions/


More information about the test-report mailing list