|SUCCESS| pw138384-138396 [PATCH] [13/13] net/mlx5/hws: fix port ID
dpdklab at iol.unh.edu
dpdklab at iol.unh.edu
Thu Mar 14 19:37:23 CET 2024
Test-Label: iol-compile-amd64-testing
Test-Status: SUCCESS
http://dpdk.org/patch/138396
_Testing PASS_
Submitter: Itamar Gozlan <igozlan at nvidia.com>
Date: Thursday, March 14 2024 11:42:20
DPDK git baseline: Repo:dpdk
Branch: master
CommitID:1585a8ddae09ea651ec0bfd462783b71b90534ab
138384-138396 --> testing pass
Test environment and result as below:
+---------------------+--------------------+
| Environment | dpdk_meson_compile |
+=====================+====================+
| FreeBSD 13.2 | PASS |
+---------------------+--------------------+
| Windows Server 2022 | PASS |
+---------------------+--------------------+
| Fedora 38 | PASS |
+---------------------+--------------------+
| CentOS Stream 8 | PASS |
+---------------------+--------------------+
| CentOS Stream 9 | PASS |
+---------------------+--------------------+
| Fedora 37 | PASS |
+---------------------+--------------------+
| Ubuntu 20.04 | PASS |
+---------------------+--------------------+
| Debian 12 (arm) | PASS |
+---------------------+--------------------+
| RHEL8 | PASS |
+---------------------+--------------------+
| Debian Bullseye | PASS |
+---------------------+--------------------+
| Ubuntu 22.04 | PASS |
+---------------------+--------------------+
| Alpine | PASS |
+---------------------+--------------------+
FreeBSD 13.2
Kernel: 13.2
Compiler: clang 11.3.0
Windows Server 2022
Kernel: OS Build 20348.2031
Compiler: clang 15.0.7, gcc 8.1.0 (MinGW), and MSVC VS 17.9
Fedora 38
Kernel: Depends on container host
Compiler: gcc 13.1.1
CentOS Stream 8
Kernel: 4.18.0-240.10.1.el8_3.x86_64
Compiler: gcc 8.4.1 20200928
CentOS Stream 9
Kernel: 4.18.0-240.10.1.el8_3.x86_64
Compiler: gcc 11.3.1 20220421
Fedora 37
Kernel: Depends on container host system
Compiler: gcc 12.3.1
Ubuntu 20.04
Kernel: 5.4.0-153-generic
Compiler: gcc 9.4.0-1ubuntu1~20.04.1
Debian 12 (arm)
Kernel: Container Host Kernel
Compiler: gcc 11
RHEL8
Kernel: 4.18.0-240.10.1.el8_3.x86_64
Compiler: gcc 8.3.1 20191121 (Red Hat 8.3.1-5)
Debian Bullseye
Kernel: 5.4.0-122-generic
Compiler: gcc 10.2.1-6
Ubuntu 22.04
Kernel: 4.18.0-240.10.1.el8_3.x86_64
Compiler: gcc 11.3.0
Alpine
Kernel: 5.4.0-73-generic
Compiler: gcc (Alpine 10.3.1_git20210424) 10.3.1 20210424
To view detailed results, visit:
https://lab.dpdk.org/results/dashboard/patchsets/29551/
UNH-IOL DPDK Community Lab
To manage your email subscriptions, visit:
https://lab.dpdk.org/results/dashboard/preferences/subscriptions/
More information about the test-report
mailing list