|SUCCESS| pw138409 [PATCH] net/igc: fix disabling timesync

dpdklab at iol.unh.edu dpdklab at iol.unh.edu
Fri Mar 15 03:02:00 CET 2024


Test-Label: iol-unit-arm64-testing
Test-Status: SUCCESS
http://dpdk.org/patch/138409

_Testing PASS_

Submitter: Wenwu Ma <wenwux.ma at intel.com>
Date: Friday, March 15 2024 01:06:31 
DPDK git baseline: Repo:dpdk
  Branch: master
  CommitID:19082c1fac430c74bb4b1c101edd12d88928e7c2

138409 --> testing pass

Test environment and result as below:

+-----------------------+------------------------------+---------------------------+----------------+
|      Environment      | cryptodev_sw_snow3g_autotest | cryptodev_sw_zuc_autotest | dpdk_unit_test |
+=======================+==============================+===========================+================+
| Debian 12 (arm)       | PASS                         | PASS                      | PASS           |
+-----------------------+------------------------------+---------------------------+----------------+
| CentOS Stream 9 (ARM) | SKIPPED                      | SKIPPED                   | PASS           |
+-----------------------+------------------------------+---------------------------+----------------+


Debian 12 (arm)
	Kernel: Container Host Kernel
	Compiler: gcc 11

CentOS Stream 9 (ARM)
	Kernel: Container Host Kernel
	Compiler: gcc 11.3.1

To view detailed results, visit:
https://lab.dpdk.org/results/dashboard/patchsets/29564/

UNH-IOL DPDK Community Lab

To manage your email subscriptions, visit: 
https://lab.dpdk.org/results/dashboard/preferences/subscriptions/


More information about the test-report mailing list