|SUCCESS| pw138409 [PATCH] net/igc: fix disabling timesync

dpdklab at iol.unh.edu dpdklab at iol.unh.edu
Fri Mar 15 03:09:50 CET 2024


Test-Label: iol-unit-arm64-testing
Test-Status: SUCCESS
http://dpdk.org/patch/138409

_Testing PASS_

Submitter: Wenwu Ma <wenwux.ma at intel.com>
Date: Friday, March 15 2024 01:06:31 
DPDK git baseline: Repo:dpdk
  Branch: master
  CommitID:19082c1fac430c74bb4b1c101edd12d88928e7c2

138409 --> testing pass

Test environment and result as below:

+--------------------------+------------------------------+---------------------------+----------------+--------------+
|       Environment        | cryptodev_sw_snow3g_autotest | cryptodev_sw_zuc_autotest | dpdk_unit_test | lpm_autotest |
+==========================+==============================+===========================+================+==============+
| Debian 12 (arm)          | PASS                         | PASS                      | PASS           | SKIPPED      |
+--------------------------+------------------------------+---------------------------+----------------+--------------+
| CentOS Stream 9 (ARM)    | SKIPPED                      | SKIPPED                   | PASS           | SKIPPED      |
+--------------------------+------------------------------+---------------------------+----------------+--------------+
| Debian 11 (Buster) (ARM) | SKIPPED                      | SKIPPED                   | PASS           | SKIPPED      |
+--------------------------+------------------------------+---------------------------+----------------+--------------+
| Fedora 38 (ARM)          | SKIPPED                      | SKIPPED                   | PASS           | SKIPPED      |
+--------------------------+------------------------------+---------------------------+----------------+--------------+
| Fedora 37 (ARM)          | SKIPPED                      | SKIPPED                   | PASS           | SKIPPED      |
+--------------------------+------------------------------+---------------------------+----------------+--------------+
| Ubuntu 20.04 ARM SVE     | SKIPPED                      | SKIPPED                   | SKIPPED        | PASS         |
+--------------------------+------------------------------+---------------------------+----------------+--------------+


Debian 12 (arm)
	Kernel: Container Host Kernel
	Compiler: gcc 11

CentOS Stream 9 (ARM)
	Kernel: Container Host Kernel
	Compiler: gcc 11.3.1

Debian 11 (Buster) (ARM)
	Kernel: Container Host Kernel
	Compiler: gcc 10.2.1

Fedora 38 (ARM)
	Kernel: Depends on container host
	Compiler: gcc 13.1.1

Fedora 37 (ARM)
	Kernel: Depends on container host
	Compiler: gcc 12.3.1

Ubuntu 20.04 ARM SVE
	Kernel: 5.4.0-80-generic
	Compiler: gcc 10.3.0 (Ubuntu 10.3.0-1ubuntu1~20.04)

To view detailed results, visit:
https://lab.dpdk.org/results/dashboard/patchsets/29564/

UNH-IOL DPDK Community Lab

To manage your email subscriptions, visit: 
https://lab.dpdk.org/results/dashboard/preferences/subscriptions/


More information about the test-report mailing list