|SUCCESS| pw138411 [PATCH] [v2] net/hns3: support new device

dpdklab at iol.unh.edu dpdklab at iol.unh.edu
Fri Mar 15 04:42:20 CET 2024


Test-Label: iol-unit-arm64-testing
Test-Status: SUCCESS
http://dpdk.org/patch/138411

_Testing PASS_

Submitter: Jie Hai <haijie1 at huawei.com>
Date: Friday, March 15 2024 02:54:48 
DPDK git baseline: Repo:dpdk
  Branch: master
  CommitID:136cbcbe91ea5d7bdb337b168947828947647b45

138411 --> testing pass

Test environment and result as below:

+-----------------------+---------------------------+----------------+
|      Environment      | cryptodev_sw_zuc_autotest | dpdk_unit_test |
+=======================+===========================+================+
| Debian 12 (arm)       | PASS                      | PASS           |
+-----------------------+---------------------------+----------------+
| CentOS Stream 9 (ARM) | SKIPPED                   | PASS           |
+-----------------------+---------------------------+----------------+


Debian 12 (arm)
	Kernel: Container Host Kernel
	Compiler: gcc 11

CentOS Stream 9 (ARM)
	Kernel: Container Host Kernel
	Compiler: gcc 11.3.1

To view detailed results, visit:
https://lab.dpdk.org/results/dashboard/patchsets/29566/

UNH-IOL DPDK Community Lab

To manage your email subscriptions, visit: 
https://lab.dpdk.org/results/dashboard/preferences/subscriptions/


More information about the test-report mailing list