|SUCCESS| [GIT MASTER] b0b971bf661967fdf3d06e56b5437a779c2915ae

dpdklab at iol.unh.edu dpdklab at iol.unh.edu
Fri Mar 15 06:16:11 CET 2024


_Testing PASS_

Branch: tags/v23.11

b0b971bf661967fdf3d06e56b5437a779c2915ae --> testing pass

Test environment and result as below:

+-----------------+----------------+
|   Environment   | dpdk_unit_test |
+=================+================+
| CentOS Stream 9 | PASS           |
+-----------------+----------------+
| CentOS Stream 8 | PASS           |
+-----------------+----------------+
| Debian 12 (arm) | PASS           |
+-----------------+----------------+
| Debian Bullseye | PASS           |
+-----------------+----------------+
| Fedora 38       | PASS           |
+-----------------+----------------+


CentOS Stream 9
	Kernel: 4.18.0-240.10.1.el8_3.x86_64
	Compiler: gcc 11.3.1 20220421

CentOS Stream 8
	Kernel: 4.18.0-240.10.1.el8_3.x86_64
	Compiler: gcc 8.4.1 20200928

Debian 12 (arm)
	Kernel: Container Host Kernel
	Compiler: gcc 11

Debian Bullseye
	Kernel: 5.4.0-122-generic
	Compiler: gcc 10.2.1-6

Fedora 38
	Kernel: Depends on container host
	Compiler: clang 16.0.3

To view detailed results, visit:
https://lab.dpdk.org/results/dashboard/tarballs/28496/

UNH-IOL DPDK Community Lab

To manage your email subscriptions, visit: 
https://lab.dpdk.org/results/dashboard/preferences/subscriptions/


More information about the test-report mailing list