|SUCCESS| pw138412 [PATCH] app/testpmd: fix unpassed RSS algorithm
dpdklab at iol.unh.edu
dpdklab at iol.unh.edu
Fri Mar 15 09:16:26 CET 2024
Test-Label: iol-compile-arm64-testing
Test-Status: SUCCESS
http://dpdk.org/patch/138412
_Testing PASS_
Submitter: Jie Hai <haijie1 at huawei.com>
Date: Friday, March 15 2024 03:00:53
DPDK git baseline: Repo:dpdk
Branch: master
CommitID:136cbcbe91ea5d7bdb337b168947828947647b45
138412 --> testing pass
Test environment and result as below:
+----------------------------------------+--------------------+
| Environment | dpdk_meson_compile |
+========================================+====================+
| Ubuntu 20.04 ARM SVE | PASS |
+----------------------------------------+--------------------+
| Ubuntu 20.04 ARM GCC Cross Compile | PASS |
+----------------------------------------+--------------------+
| Debian 12 with MUSDK | PASS |
+----------------------------------------+--------------------+
| Fedora 37 (ARM) | PASS |
+----------------------------------------+--------------------+
| Debian 11 (Buster) (ARM) | PASS |
+----------------------------------------+--------------------+
| Ubuntu 20.04 aarch32 GCC Cross Compile | PASS |
+----------------------------------------+--------------------+
| CentOS Stream 9 (ARM) | PASS |
+----------------------------------------+--------------------+
| Ubuntu 20.04 ARM Clang Cross Compile | PASS |
+----------------------------------------+--------------------+
| Debian 12 (arm) | PASS |
+----------------------------------------+--------------------+
| Ubuntu 20.04 (ARM) | PASS |
+----------------------------------------+--------------------+
| Fedora 38 (ARM) | PASS |
+----------------------------------------+--------------------+
Ubuntu 20.04 ARM SVE
Kernel: 5.4.0-80-generic
Compiler: gcc 10.3.0 (Ubuntu 10.3.0-1ubuntu1~20.04)
Ubuntu 20.04 ARM GCC Cross Compile
Kernel: 5.4.0-72-generic
Compiler: aarch64-linux-gnu-gcc (Ubuntu 9.3.0-17ubuntu1~20.04) 9.3.0
Debian 12 with MUSDK
Kernel: Container Host Kernel
Compiler: gcc 12
Fedora 37 (ARM)
Kernel: Depends on container host
Compiler: gcc 12.3.1
Debian 11 (Buster) (ARM)
Kernel: Container Host Kernel
Compiler: gcc 10.2.1
Ubuntu 20.04 aarch32 GCC Cross Compile
Kernel: 5.4.0-72-generic
Compiler: gcc 9.3.0
CentOS Stream 9 (ARM)
Kernel: Container Host Kernel
Compiler: gcc 11.3.1
Ubuntu 20.04 ARM Clang Cross Compile
Kernel: 5.4.0-72-generic
Compiler: clang version 10.0.0-4ubuntu1
Debian 12 (arm)
Kernel: Container Host Kernel
Compiler: gcc 11
Ubuntu 20.04 (ARM)
Kernel: Container Host Kernel
Compiler: gcc 9.4.0
Fedora 38 (ARM)
Kernel: Depends on container host
Compiler: gcc 13.1.1
To view detailed results, visit:
https://lab.dpdk.org/results/dashboard/patchsets/29567/
UNH-IOL DPDK Community Lab
To manage your email subscriptions, visit:
https://lab.dpdk.org/results/dashboard/preferences/subscriptions/
More information about the test-report
mailing list