|SUCCESS| pw138434 [PATCH] devtools: download scripts from linux if

dpdklab at iol.unh.edu dpdklab at iol.unh.edu
Fri Mar 15 16:03:35 CET 2024


Test-Label: iol-abi-testing
Test-Status: SUCCESS
http://dpdk.org/patch/138434

_Testing PASS_

Submitter: Robin Jarry <rjarry at redhat.com>
Date: Friday, March 15 2024 14:14:42 
DPDK git baseline: Repo:dpdk
  Branch: master
  CommitID:90a91f8761af9f99243e1ca35082fcf05ff7a9b2

138434 --> testing pass

Test environment and result as below:

+-----------------+----------+
|   Environment   | abi_test |
+=================+==========+
| CentOS Stream 8 | PASS     |
+-----------------+----------+
| Debian Bullseye | PASS     |
+-----------------+----------+
| Debian 12 (arm) | PASS     |
+-----------------+----------+


CentOS Stream 8
	Kernel: 4.18.0-240.10.1.el8_3.x86_64
	Compiler: gcc 8.4.1 20200928

Debian Bullseye
	Kernel: 5.4.0-122-generic
	Compiler: gcc 10.2.1-6

Debian 12 (arm)
	Kernel: Container Host Kernel
	Compiler: gcc 11

To view detailed results, visit:
https://lab.dpdk.org/results/dashboard/patchsets/29573/

UNH-IOL DPDK Community Lab

To manage your email subscriptions, visit: 
https://lab.dpdk.org/results/dashboard/preferences/subscriptions/


More information about the test-report mailing list