|SUCCESS| [GIT MASTER] 90a91f8761af9f99243e1ca35082fcf05ff7a9b2
dpdklab at iol.unh.edu
dpdklab at iol.unh.edu
Fri Mar 15 17:16:34 CET 2024
_Testing PASS_
Branch: dpdk
90a91f8761af9f99243e1ca35082fcf05ff7a9b2 --> testing pass
Test environment and result as below:
+--------------------------+--------------+----------------+
| Environment | lpm_autotest | dpdk_unit_test |
+==========================+==============+================+
| Ubuntu 20.04 ARM SVE | PASS | SKIPPED |
+--------------------------+--------------+----------------+
| CentOS Stream 9 (ARM) | SKIPPED | PASS |
+--------------------------+--------------+----------------+
| Debian 11 (Buster) (ARM) | SKIPPED | PASS |
+--------------------------+--------------+----------------+
| Fedora 37 (ARM) | SKIPPED | PASS |
+--------------------------+--------------+----------------+
| Debian 12 (arm) | SKIPPED | PASS |
+--------------------------+--------------+----------------+
| Fedora 38 (ARM) | SKIPPED | PASS |
+--------------------------+--------------+----------------+
Ubuntu 20.04 ARM SVE
Kernel: 5.4.0-80-generic
Compiler: gcc 10.3.0 (Ubuntu 10.3.0-1ubuntu1~20.04)
CentOS Stream 9 (ARM)
Kernel: Container Host Kernel
Compiler: gcc 11.3.1
Debian 11 (Buster) (ARM)
Kernel: Container Host Kernel
Compiler: gcc 10.2.1
Fedora 37 (ARM)
Kernel: Depends on container host
Compiler: gcc 12.3.1
Debian 12 (arm)
Kernel: Container Host Kernel
Compiler: gcc 11
Fedora 38 (ARM)
Kernel: Depends on container host
Compiler: gcc 13.1.1
To view detailed results, visit:
https://lab.dpdk.org/results/dashboard/tarballs/28506/
UNH-IOL DPDK Community Lab
To manage your email subscriptions, visit:
https://lab.dpdk.org/results/dashboard/preferences/subscriptions/
More information about the test-report
mailing list