|SUCCESS| [GIT MASTER] a424a0c1395feaa86c83189599129a98670deceb
dpdklab at iol.unh.edu
dpdklab at iol.unh.edu
Fri Mar 15 21:52:56 CET 2024
_Testing PASS_
Branch: dpdk-next-crypto
a424a0c1395feaa86c83189599129a98670deceb --> testing pass
Test environment and result as below:
+-----------------------+--------------+---------------------------+----------------+------------------------------+
| Environment | lpm_autotest | cryptodev_sw_zuc_autotest | dpdk_unit_test | cryptodev_sw_snow3g_autotest |
+=======================+==============+===========================+================+==============================+
| Ubuntu 20.04 ARM SVE | PASS | SKIPPED | SKIPPED | SKIPPED |
+-----------------------+--------------+---------------------------+----------------+------------------------------+
| Debian 12 (arm) | SKIPPED | PASS | SKIPPED | PASS |
+-----------------------+--------------+---------------------------+----------------+------------------------------+
| CentOS Stream 9 (ARM) | SKIPPED | SKIPPED | PASS | SKIPPED |
+-----------------------+--------------+---------------------------+----------------+------------------------------+
Ubuntu 20.04 ARM SVE
Kernel: 5.4.0-80-generic
Compiler: gcc 10.3.0 (Ubuntu 10.3.0-1ubuntu1~20.04)
Debian 12 (arm)
Kernel: Container Host Kernel
Compiler: gcc 11
CentOS Stream 9 (ARM)
Kernel: Container Host Kernel
Compiler: gcc 11.3.1
To view detailed results, visit:
https://lab.dpdk.org/results/dashboard/tarballs/28507/
UNH-IOL DPDK Community Lab
To manage your email subscriptions, visit:
https://lab.dpdk.org/results/dashboard/preferences/subscriptions/
More information about the test-report
mailing list