|SUCCESS| [GIT MASTER] 8f34999c2489bcae2182266810009b77c532f17e

dpdklab at iol.unh.edu dpdklab at iol.unh.edu
Sat Mar 16 05:24:46 CET 2024


_Testing PASS_

Branch: tags/v21.11

8f34999c2489bcae2182266810009b77c532f17e --> testing pass

Test environment and result as below:

+---------------------+----------------------+--------------------+
|     Environment     | dpdk_mingw64_compile | dpdk_meson_compile |
+=====================+======================+====================+
| Windows Server 2019 | PASS                 | PASS               |
+---------------------+----------------------+--------------------+
| FreeBSD 13.2        | SKIPPED              | PASS               |
+---------------------+----------------------+--------------------+


Windows Server 2019
	Kernel: 10.0
	Compiler: clang 14.0 and gcc 8.1.0 (MinGW)

FreeBSD 13.2
	Kernel: 13.2
	Compiler: clang 11.3.0

To view detailed results, visit:
https://lab.dpdk.org/results/dashboard/tarballs/28509/

UNH-IOL DPDK Community Lab

To manage your email subscriptions, visit: 
https://lab.dpdk.org/results/dashboard/preferences/subscriptions/


More information about the test-report mailing list