|SUCCESS| pw138435 [PATCH] windows: make getopt functions have const

dpdklab at iol.unh.edu dpdklab at iol.unh.edu
Sat Mar 16 07:44:08 CET 2024


Test-Label: iol-unit-arm64-testing
Test-Status: SUCCESS
http://dpdk.org/patch/138435

_Testing PASS_

Submitter: Stephen Hemminger <stephen at networkplumber.org>
Date: Friday, March 15 2024 15:14:06 
DPDK git baseline: Repo:dpdk
  Branch: master
  CommitID:7f82e9c89f3514715533feb34f46ff1ea95c6f98

138435 --> testing pass

Test environment and result as below:

+-----------------------+----------------+
|      Environment      | dpdk_unit_test |
+=======================+================+
| CentOS Stream 9 (ARM) | PASS           |
+-----------------------+----------------+
| Debian 12 (arm)       | PASS           |
+-----------------------+----------------+
| Fedora 38 (ARM)       | PASS           |
+-----------------------+----------------+


CentOS Stream 9 (ARM)
	Kernel: Container Host Kernel
	Compiler: gcc 11.3.1

Debian 12 (arm)
	Kernel: Container Host Kernel
	Compiler: gcc 11

Fedora 38 (ARM)
	Kernel: Depends on container host
	Compiler: gcc 13.1.1

To view detailed results, visit:
https://lab.dpdk.org/results/dashboard/patchsets/29574/

UNH-IOL DPDK Community Lab

To manage your email subscriptions, visit: 
https://lab.dpdk.org/results/dashboard/preferences/subscriptions/


More information about the test-report mailing list