|SUCCESS| pw138438 [PATCH] [v2] windows: make getopt functions have
dpdklab at iol.unh.edu
dpdklab at iol.unh.edu
Sun Mar 17 17:28:25 CET 2024
Test-Label: iol-abi-testing
Test-Status: SUCCESS
http://dpdk.org/patch/138438
_Testing PASS_
Submitter: Stephen Hemminger <stephen at networkplumber.org>
Date: Sunday, March 17 2024 15:33:59
DPDK git baseline: Repo:dpdk
Branch: master
CommitID:7f82e9c89f3514715533feb34f46ff1ea95c6f98
138438 --> testing pass
Test environment and result as below:
+-----------------+----------+
| Environment | abi_test |
+=================+==========+
| CentOS Stream 9 | PASS |
+-----------------+----------+
| Ubuntu 22.04 | PASS |
+-----------------+----------+
| CentOS Stream 8 | PASS |
+-----------------+----------+
| Fedora 38 | PASS |
+-----------------+----------+
| Debian Bullseye | PASS |
+-----------------+----------+
| Debian 12 (arm) | PASS |
+-----------------+----------+
| Fedora 37 | PASS |
+-----------------+----------+
CentOS Stream 9
Kernel: 4.18.0-240.10.1.el8_3.x86_64
Compiler: gcc 11.3.1 20220421
Ubuntu 22.04
Kernel: 4.18.0-240.10.1.el8_3.x86_64
Compiler: gcc 11.3.0
CentOS Stream 8
Kernel: 4.18.0-240.10.1.el8_3.x86_64
Compiler: gcc 8.4.1 20200928
Fedora 38
Kernel: Depends on container host
Compiler: clang 16.0.3
Debian Bullseye
Kernel: 5.4.0-122-generic
Compiler: gcc 10.2.1-6
Debian 12 (arm)
Kernel: Container Host Kernel
Compiler: gcc 11
Fedora 37
Kernel: Depends on container host system
Compiler: gcc 12.3.1
To view detailed results, visit:
https://lab.dpdk.org/results/dashboard/patchsets/29576/
UNH-IOL DPDK Community Lab
To manage your email subscriptions, visit:
https://lab.dpdk.org/results/dashboard/preferences/subscriptions/
More information about the test-report
mailing list