|SUCCESS| [GIT MASTER] 7f82e9c89f3514715533feb34f46ff1ea95c6f98

dpdklab at iol.unh.edu dpdklab at iol.unh.edu
Sun Mar 17 21:08:18 CET 2024


_Testing PASS_

Branch: dpdk-next-crypto

7f82e9c89f3514715533feb34f46ff1ea95c6f98 --> testing pass

Test environment and result as below:

+--------------------------------------+--------------------+
|             Environment              | dpdk_meson_compile |
+======================================+====================+
| Ubuntu 20.04 ARM SVE                 | PASS               |
+--------------------------------------+--------------------+
| Debian 12 with MUSDK                 | PASS               |
+--------------------------------------+--------------------+
| Ubuntu 20.04 ARM Clang Cross Compile | PASS               |
+--------------------------------------+--------------------+


Ubuntu 20.04 ARM SVE
	Kernel: 5.4.0-80-generic
	Compiler: gcc 10.3.0 (Ubuntu 10.3.0-1ubuntu1~20.04)

Debian 12 with MUSDK
	Kernel: Container Host Kernel
	Compiler: gcc 12

Ubuntu 20.04 ARM Clang Cross Compile
	Kernel: 5.4.0-72-generic
	Compiler: clang version 10.0.0-4ubuntu1

To view detailed results, visit:
https://lab.dpdk.org/results/dashboard/tarballs/28519/

UNH-IOL DPDK Community Lab

To manage your email subscriptions, visit: 
https://lab.dpdk.org/results/dashboard/preferences/subscriptions/


More information about the test-report mailing list