|SUCCESS| pw138471 [PATCH] [v2] doc: add dma perf feature details
dpdklab at iol.unh.edu
dpdklab at iol.unh.edu
Tue Mar 19 00:25:25 CET 2024
Test-Label: iol-abi-testing
Test-Status: SUCCESS
http://dpdk.org/patch/138471
_Testing PASS_
Submitter: Amit Prakash Shukla <amitprakashs at marvell.com>
Date: Monday, March 18 2024 18:45:52
DPDK git baseline: Repo:dpdk
Branch: master
CommitID:80ecef6d1f71fcebc0a51d7cabc51f73ee142ff2
138471 --> testing pass
Test environment and result as below:
+-----------------+----------+
| Environment | abi_test |
+=================+==========+
| Debian 11 (arm) | PASS |
+-----------------+----------+
| Debian Bullseye | PASS |
+-----------------+----------+
| Ubuntu 22.04 | PASS |
+-----------------+----------+
| Fedora 38 | PASS |
+-----------------+----------+
| RHEL8 | PASS |
+-----------------+----------+
Debian 11 (arm)
Kernel: Container Host Kernel
Compiler: gcc 10.2.1
Debian Bullseye
Kernel: 5.4.0-167-generic
Compiler: gcc 10.2.1-6
Ubuntu 22.04
Kernel: 5.4.0-167-generic
Compiler: gcc 11.4.0
Fedora 38
Kernel: Depends on container host
Compiler: gcc 13.2.1
RHEL8
Kernel: 5.4.0-167-generic
Compiler: gcc 8.5.0 20210514 (Red Hat 8.5.0-20)
To view detailed results, visit:
https://lab.dpdk.org/results/dashboard/patchsets/29588/
UNH-IOL DPDK Community Lab
To manage your email subscriptions, visit:
https://lab.dpdk.org/results/dashboard/preferences/subscriptions/
More information about the test-report
mailing list